BEGIN:VCALENDAR
VERSION:2.0
PRODID:-//SRVSOP - ECPv4.9.3.1//NONSGML v1.0//EN
CALSCALE:GREGORIAN
METHOD:PUBLISH
X-WR-CALNAME:SRVSOP
X-ORIGINAL-URL:https://srvsop.aero/en
X-WR-CALDESC:CURSOS PARA SRVSOP
BEGIN:VEVENT
DTSTART;TZID=America/Lima:20260921T080000
DTEND;TZID=America/Lima:20260925T170000
DTSTAMP:20260423T032441
CREATED:20260127T172901Z
LAST-MODIFIED:20260409T152519Z
UID:22126-1789977600-1790355600@srvsop.aero
SUMMARY:PEL-S1-2.2-2026 - Curso de formación de instrucción y evaluación por competencias en base a material desarrollado por el SRVSOP/OACI (CBTA)
DESCRIPTION:Registro: Formulario de Inscripción PEL-S1-2.2 – Curso CBTA – Fill out form \n
URL:https://srvsop.aero/en/curso/pel-s1-2-2-2026-curso-de-formacion-de-instruccion-y-evaluacion-por-competencias-en-base-a-material-desarrollado-por-el-srvsop-oaci/
LOCATION:Lima\, Peru\, Av. Víctor Andrés Belaúnde No. 147\,Centro Empresarial Real\, Vía Principal No. 102\, Edificio Real 4\, Piso 4\, San Isidro\, Lima\, Peru?\, Lima\, Perú
END:VEVENT
END:VCALENDAR