BEGIN:VCALENDAR
VERSION:2.0
PRODID:-//SRVSOP - ECPv4.9.3.1//NONSGML v1.0//EN
CALSCALE:GREGORIAN
METHOD:PUBLISH
X-WR-CALNAME:SRVSOP
X-ORIGINAL-URL:https://srvsop.aero/en
X-WR-CALDESC:CURSOS PARA SRVSOP
BEGIN:VEVENT
DTSTART;VALUE=DATE:20260406
DTEND;VALUE=DATE:20260501
DTSTAMP:20260422T193343
CREATED:20260113T190220Z
LAST-MODIFIED:20260311T184418Z
UID:22063-1775433600-1777593599@srvsop.aero
SUMMARY:AGA-S2-1.2-2026 - Curso de conocimientos de los LAR AGA
DESCRIPTION:Registro: Formulario de Inscripción AGA-S2-1.2 -2026-GSI AGA 1 – Fill out form \n
URL:https://srvsop.aero/en/curso/aga-s2-1-2-2026-curso-de-conocimientos-de-los-lar-aga/
LOCATION:Virtual
END:VEVENT
END:VCALENDAR