BEGIN:VCALENDAR
VERSION:2.0
PRODID:-//SRVSOP - ECPv4.9.3.1//NONSGML v1.0//EN
CALSCALE:GREGORIAN
METHOD:PUBLISH
X-WR-CALNAME:SRVSOP
X-ORIGINAL-URL:https://srvsop.aero/en
X-WR-CALDESC:CURSOS PARA SRVSOP
BEGIN:VEVENT
DTSTART;TZID=America/Lima:20260406T080000
DTEND;TZID=America/Lima:20260417T140000
DTSTAMP:20260422T193958
CREATED:20260210T204016Z
LAST-MODIFIED:20260212T174631Z
UID:22145-1775462400-1776434400@srvsop.aero
SUMMARY:AIR-S2-6.2-2026 -  Curso remoto de auditor líder ISO 9001:2015 (ISO 19011:2018)
DESCRIPTION:Registro: Formulario de Inscripción AIR-S2-2.2-2026-Curso de formación de auditor líder – Fill out form \n
URL:https://srvsop.aero/en/curso/air-s2-2-2-2026-curso-remoto-de-auditor-lider-iso-90012015-iso-190112018/
LOCATION:Virtual
END:VEVENT
END:VCALENDAR