BEGIN:VCALENDAR
VERSION:2.0
PRODID:-//SRVSOP - ECPv4.9.3.1//NONSGML v1.0//EN
CALSCALE:GREGORIAN
METHOD:PUBLISH
X-WR-CALNAME:SRVSOP
X-ORIGINAL-URL:https://srvsop.aero
X-WR-CALDESC:Eventos para SRVSOP
BEGIN:VEVENT
DTSTART;VALUE=DATE:20260701
DTEND;VALUE=DATE:20260730
DTSTAMP:20260422T224616
CREATED:20260113T185849Z
LAST-MODIFIED:20260127T172525Z
UID:22060-1782864000-1785369599@srvsop.aero
SUMMARY:AGA-S2-2.1-2026 - Curso básico en gestión de la vigilancia de aeródromos (virtual asincrónico)
DESCRIPTION:
URL:https://srvsop.aero/curso/aga-s2-2-1-2026-curso-basico-en-gestion-de-la-vigilancia-de-aerodromos-virtual-asincronico/
LOCATION:Virtual
END:VEVENT
BEGIN:VEVENT
DTSTART;TZID=America/Lima:20260713T080000
DTEND;TZID=America/Lima:20260724T170000
DTSTAMP:20260422T224616
CREATED:20260413T204307Z
LAST-MODIFIED:20260413T204558Z
UID:22355-1783929600-1784912400@srvsop.aero
SUMMARY:ANS-S2-5.1-2026 - Curso de Inspectores Gubernamentales de Servicios de Navegación Aérea – GSI ANS
DESCRIPTION:Registro: RLA/99/901 Formulario de Inscripción – ANS-S2-5.1-2026 Curso GSI ANS  – 2026 – Fill out form \nEtapa 1: En línea\, del 13 al 17 de julio de 2026 \nEtapa 2: Presencial – Santiago de Chile\, Chile\, del 20 al 24 de julio de 2026 \n
URL:https://srvsop.aero/curso/ans-s2-5-1-2026-curso-de-inspectores-gubernamentales-de-servicios-de-navegacion-aerea-gsi-ans/
LOCATION:Santiago de Chile\, Chile
END:VEVENT
END:VCALENDAR