BEGIN:VCALENDAR
VERSION:2.0
PRODID:-//SRVSOP - ECPv4.9.3.1//NONSGML v1.0//EN
CALSCALE:GREGORIAN
METHOD:PUBLISH
X-WR-CALNAME:SRVSOP
X-ORIGINAL-URL:https://srvsop.aero
X-WR-CALDESC:Eventos para SRVSOP
BEGIN:VEVENT
DTSTART;VALUE=DATE:20260121
DTEND;VALUE=DATE:20260129
DTSTAMP:20260422T225956
CREATED:20251118T184430Z
LAST-MODIFIED:20260113T185139Z
UID:21921-1768953600-1769644799@srvsop.aero
SUMMARY:AGA-S2-3.1-2025 - Seminario Virtual (Webinar) temáticos sobre las PQ más críticas o complejas
DESCRIPTION:
URL:https://srvsop.aero/curso/aga-s2-3-1-2025-seminario-virtual-webinar-tematicos-sobre-las-pq-mas-criticas-o-complejas/
LOCATION:En línea
END:VEVENT
END:VCALENDAR